BEGIN:VCALENDAR
VERSION:2.0
PRODID:-//Moretonhampstead Parish Council//Meeting Calendar//EN
CALSCALE:GREGORIAN
METHOD:PUBLISH
BEGIN:VEVENT
UID:71178-20260407@moretonhampstead-pc.gov.uk
DTSTAMP:20260421T135948Z
DTSTART;VALUE=DATE:20260407
DTEND;VALUE=DATE:20260408
SUMMARY:Full Council Meeting &#8211\\; 7 April
DESCRIPTION:Full Council Meeting\nView details: https://moretonhampstead-pc.gov.uk/meetings/full-council-meeting-7-april/
URL:https://moretonhampstead-pc.gov.uk/meetings/full-council-meeting-7-april/
END:VEVENT
END:VCALENDAR
