BEGIN:VCALENDAR
VERSION:2.0
PRODID:-//Moretonhampstead Parish Council//Meeting Calendar//EN
CALSCALE:GREGORIAN
METHOD:PUBLISH
BEGIN:VEVENT
UID:70690-20231103@moretonhampstead-pc.gov.uk
DTSTAMP:20260420T082125Z
DTSTART;VALUE=DATE:20231103
DTEND;VALUE=DATE:20231104
SUMMARY:Staffing Committee Meeting &#8211\\; 3 November 2023
DESCRIPTION:Staffing Committee Meeting\nView details: https://moretonhampstead-pc.gov.uk/meetings/staffing-committee-meeting-3-november-2023/
URL:https://moretonhampstead-pc.gov.uk/meetings/staffing-committee-meeting-3-november-2023/
END:VEVENT
END:VCALENDAR
