BEGIN:VCALENDAR
VERSION:2.0
PRODID:-//Moretonhampstead Parish Council//Meeting Calendar//EN
CALSCALE:GREGORIAN
METHOD:PUBLISH
BEGIN:VEVENT
UID:71118-20260303@moretonhampstead-pc.gov.uk
DTSTAMP:20260421T125344Z
DTSTART;VALUE=DATE:20260303
DTEND;VALUE=DATE:20260304
SUMMARY:Full Council Meeting &#8211\\; 3rd March
DESCRIPTION:Full Council Meeting\nView details: https://moretonhampstead-pc.gov.uk/meetings/full-council-meeting-3rd-march/
URL:https://moretonhampstead-pc.gov.uk/meetings/full-council-meeting-3rd-march/
END:VEVENT
END:VCALENDAR
