BEGIN:VCALENDAR
VERSION:2.0
PRODID:-//Moretonhampstead Parish Council//Meeting Calendar//EN
CALSCALE:GREGORIAN
METHOD:PUBLISH
BEGIN:VEVENT
UID:70563-20251202@moretonhampstead-pc.gov.uk
DTSTAMP:20260421T095312Z
DTSTART;VALUE=DATE:20251202
DTEND;VALUE=DATE:20251203
SUMMARY:Full Council Meeting – 2 December 2025
DESCRIPTION:Full Council Meeting\nView details: https://moretonhampstead-pc.gov.uk/meetings/full-council-meeting-2-december-2025/
URL:https://moretonhampstead-pc.gov.uk/meetings/full-council-meeting-2-december-2025/
END:VEVENT
END:VCALENDAR
