BEGIN:VCALENDAR
VERSION:2.0
PRODID:-//Moretonhampstead Parish Council//Meeting Calendar//EN
CALSCALE:GREGORIAN
METHOD:PUBLISH
BEGIN:VEVENT
UID:70524-20250204@moretonhampstead-pc.gov.uk
DTSTAMP:20260421T095445Z
DTSTART;VALUE=DATE:20250204
DTEND;VALUE=DATE:20250205
SUMMARY:Planning Committee Meeting &#8211\\; 4 February 2025
DESCRIPTION:Planning Committee Meeting\nView details: https://moretonhampstead-pc.gov.uk/meetings/planning-committee-meeting-4-february-2025/
URL:https://moretonhampstead-pc.gov.uk/meetings/planning-committee-meeting-4-february-2025/
END:VEVENT
END:VCALENDAR
