BEGIN:VCALENDAR
VERSION:2.0
PRODID:-//Moretonhampstead Parish Council//Meeting Calendar//EN
CALSCALE:GREGORIAN
METHOD:PUBLISH
BEGIN:VEVENT
UID:70518-20250520@moretonhampstead-pc.gov.uk
DTSTAMP:20260421T095449Z
DTSTART;VALUE=DATE:20250520
DTEND;VALUE=DATE:20250521
SUMMARY:Finance and Policy Committee Meeting &#8211\\; 20 May 2025
DESCRIPTION:Finance and Policy Committee Meeting\nView details: https://moretonhampstead-pc.gov.uk/meetings/finance-and-policy-committee-meeting-20-may-2025/
URL:https://moretonhampstead-pc.gov.uk/meetings/finance-and-policy-committee-meeting-20-may-2025/
END:VEVENT
END:VCALENDAR
