BEGIN:VCALENDAR
VERSION:2.0
PRODID:-//Moretonhampstead Parish Council//Meeting Calendar//EN
CALSCALE:GREGORIAN
METHOD:PUBLISH
BEGIN:VEVENT
UID:70441-20251104@moretonhampstead-pc.gov.uk
DTSTAMP:20260421T095226Z
DTSTART;VALUE=DATE:20251104
DTEND;VALUE=DATE:20251105
SUMMARY:Council Meeting &#8211\\; 4 November 2025
DESCRIPTION:Full Council Meeting\nView details: https://moretonhampstead-pc.gov.uk/meetings/council-meeting-4-november-2025/
URL:https://moretonhampstead-pc.gov.uk/meetings/council-meeting-4-november-2025/
END:VEVENT
END:VCALENDAR
